BEGIN:VCALENDAR
VERSION:2.0
PRODID:-//EcoShasta | S.E.A. - ECPv6.15.20//NONSGML v1.0//EN
CALSCALE:GREGORIAN
METHOD:PUBLISH
X-WR-CALNAME:EcoShasta | S.E.A.
X-ORIGINAL-URL:https://www.ecoshasta.org
X-WR-CALDESC:Events for EcoShasta | S.E.A.
REFRESH-INTERVAL;VALUE=DURATION:PT1H
X-Robots-Tag:noindex
X-PUBLISHED-TTL:PT1H
BEGIN:VTIMEZONE
TZID:America/Los_Angeles
BEGIN:DAYLIGHT
TZOFFSETFROM:-0800
TZOFFSETTO:-0700
TZNAME:PDT
DTSTART:20250309T100000
END:DAYLIGHT
BEGIN:STANDARD
TZOFFSETFROM:-0700
TZOFFSETTO:-0800
TZNAME:PST
DTSTART:20251102T090000
END:STANDARD
BEGIN:DAYLIGHT
TZOFFSETFROM:-0800
TZOFFSETTO:-0700
TZNAME:PDT
DTSTART:20260308T100000
END:DAYLIGHT
BEGIN:STANDARD
TZOFFSETFROM:-0700
TZOFFSETTO:-0800
TZNAME:PST
DTSTART:20261101T090000
END:STANDARD
BEGIN:DAYLIGHT
TZOFFSETFROM:-0800
TZOFFSETTO:-0700
TZNAME:PDT
DTSTART:20270314T100000
END:DAYLIGHT
BEGIN:STANDARD
TZOFFSETFROM:-0700
TZOFFSETTO:-0800
TZNAME:PST
DTSTART:20271107T090000
END:STANDARD
END:VTIMEZONE
BEGIN:VEVENT
DTSTART;TZID=America/Los_Angeles:20260424T210000
DTEND;TZID=America/Los_Angeles:20260424T230000
DTSTAMP:20260422T235838
CREATED:20260407T205109Z
LAST-MODIFIED:20260412T162232Z
UID:3400-1777064400-1777071600@www.ecoshasta.org
SUMMARY:Moth Party ~ Lightsheeting Event
DESCRIPTION:Date: April 24\, 2026 \nTime: 9pm – 11pm \nRSVP HERE \nYou’re invited to the Moth Party! What is a moth party? Well\, if you shine a bright light at a white sheet… this is heaven for moths and other insects. This strategy makes it easier for us to photograph creatures that are usually fluttering about\, making for blurry pictures. \nOur Goal: \nAttract and photograph moths and other insect species to record for the Shasta County City Nature Challenge. \nWhat is the City Nature Challenge? \nEach year\, various counties and cities participate in recording observations of wildlife in the iNaturalist app in order to document biodiversity in specific areas. This is a world-wide project that encourages the average person to look at nature around them and report back on what they see. Do you need to be a scientist or an expert to take part in this Challenge? Absolutely not! All you need is a phone\, the iNaturalist app\, and curiosity. \nWhy a Moth Party? \nWhen you think of “Pollinators” you probably picture colorful butterflies or buzzing bees. But did you know that on a global scale\, there are twice as many species of pollinating moths as there are bees\, and six times as many pollinating moth species as butterflies? While most creatures are asleep\, moths work the night-shift\, which is why they are often overlooked. If this didn’t convince you\, they are also very cute and fuzzy and nice to look at!  \nPlease RSVP for location and event details \n*Note: this event will be held in a more remote location than the light-polluted city center in order to encourage a more successful turnout (of insects) \nFor any questions\, contact ren@ecoshasta.org \n 
URL:https://www.ecoshasta.org/event/moth-party-lightsheeting-event/
LOCATION:CA
END:VEVENT
BEGIN:VEVENT
DTSTART;TZID=America/Los_Angeles:20260426T090000
DTEND;TZID=America/Los_Angeles:20260426T110000
DTSTAMP:20260422T235838
CREATED:20260303T213322Z
LAST-MODIFIED:20260303T213322Z
UID:3253-1777194000-1777201200@www.ecoshasta.org
SUMMARY:Salmon Monitoring on Clear Creek
DESCRIPTION:Hosted by Horsetown-Clear Creek Preserve. \nJoin Horsetown-Clear Creek Preserve alongside Fish Biologists from the US. Fish and Wildlife Service (USFWS) to learn more about their juvenile salmon conservation and monitoring projects in our area. This is a family friendly event where you can view USFWS rotary screw trap operations on Clear Creek\, a project that helps track and monitor populations of our local Chinook Salmon. We’ll start at the China Garden Trailhead. USFWS will then lead us down to Clear Creek where we will be able to learn about and observe USFWS rotary screw trap and juvenile fish handling operations\, conservation and monitoring of Chinook Salmon and steelhead trout\, as well as restoration and management efforts happening within the watershed. \nThis hike meets at the China Garden Trailhead\, (the first BLM trailhead on Clear Creek Road from highway 273).
URL:https://www.ecoshasta.org/event/salmon-monitoring-on-clear-creek/
LOCATION:China Gardens Trailhead\, Clear Creek Road\, Redding\, CA
END:VEVENT
BEGIN:VEVENT
DTSTART;TZID=America/Los_Angeles:20260426T090000
DTEND;TZID=America/Los_Angeles:20260426T120000
DTSTAMP:20260422T235838
CREATED:20260403T225859Z
LAST-MODIFIED:20260403T225859Z
UID:3386-1777194000-1777204800@www.ecoshasta.org
SUMMARY:Whiskeytown City Nature Challenge Bioblitz Event
DESCRIPTION:Date: Sunday\, April 26\, 2026 \nTime: 9am – 12pm (Carpool meeting time is 8:15am at the Grocery Outlet on Eureka Way) \nWhere: Crystal Creek Water Ditch Trail  \nSign Up HERE \n***Please note that trailhead parking is limited so we are organizing a carpool.*** \nShasta Environmental Alliance is excited to offer a bioblitz event for this year’s Shasta County City Nature Challenge project at Whiskeytown National Recreation Area! Join SEA naturalists Juliet Malik and Ren Redlich along with guest naturalist Ross Schaefer on April 26 for a fun community activity in which we will contribute to the documentation of our region’s amazing biodiversity. \nWhat: \nThe City Nature Challenge is an annual four-day international bioblitz that invites people around the world to document wildlife in their region. The event is organized globally by the Natural History Museum of Los Angeles County and the California Academy of Sciences\, with local partners leading efforts in their communities. This is Shasta County’s second year participating and is co-organized by Point Blue Conservation Science\, Western Shasta Resource Conservation District\, and Shasta Environmental Alliance. \nWhy: \nParticipating in CNC events provides valuable data that helps scientists and communities better understand and protect nature globally. Plus\, it is a fun activity that provides the opportunity for community connection and learning about local biodiversity. \nHow: \nWe will be conducting an iNaturalist bioblitz\, a community science activity in which participants document as many species as possible within a specified location and time frame. Observations are made and submitted by using the user-friendly app and platform iNaturalist. \nWho: \nAnyone! All that is needed is a mobile phone with the iNaturalist app downloaded onto it.  \nTo Participate: \n\n       Sign up HERE\n       Download iNaturalist onto your mobile phone and create an account.\n       Familiarize yourself with how iNaturalist works. Check out this page for tutorials.\n       Bring your hiking essentials including water\, sun/rain protection\, and a snack.\n\nIf you cannot attend this event\, you can still contribute to the project by submitting iNaturalist observations within Shasta County during April 24-27\, 2026. Your observations will automatically be recorded in the Shasta County 2026 CNC project. For any questions email juliet@ecoshasta.org.
URL:https://www.ecoshasta.org/event/whiskeytown-city-nature-challenge-bioblitz-event/
LOCATION:Crystal Creek Water Ditch Trailhead
END:VEVENT
BEGIN:VEVENT
DTSTART;TZID=America/Los_Angeles:20260503T130000
DTEND;TZID=America/Los_Angeles:20260503T150000
DTSTAMP:20260422T235838
CREATED:20260303T215830Z
LAST-MODIFIED:20260303T215830Z
UID:3260-1777813200-1777820400@www.ecoshasta.org
SUMMARY:Native Plant Identification and Uses
DESCRIPTION:Hosted by Horsetown-Clear Creek Preserve. \nJoin native Wintu Ted Dawson on a spring walk while he locates\, identifies\, and explains medicinal and general uses of native plants.  Ted consulted and provided technical support at Turtle Bay for Native American exhibits.  Today’s presentation will include making a natural poison oak remedy.  Bring a jar to take some home.
URL:https://www.ecoshasta.org/event/native-plant-identification-and-uses-2/
LOCATION:Horsetown-Clear Creek Preserve\, Clear Creek Rd\, Anderson\, CA\, 96007\, United States
END:VEVENT
BEGIN:VEVENT
DTSTART;TZID=America/Los_Angeles:20260516T100000
DTEND;TZID=America/Los_Angeles:20260516T120000
DTSTAMP:20260422T235838
CREATED:20260303T220455Z
LAST-MODIFIED:20260303T220455Z
UID:3262-1778925600-1778932800@www.ecoshasta.org
SUMMARY:Butterfly Walk
DESCRIPTION:Hosted by Horsetown-Clear Creek Preserve. \nHobbyist lepidopterist Jasmine has an affinity for all things butterflies. She will guide us on a walk to discover species of butterflies at the Preserve. She worked within Turtle Bay’s seasonal butterfly exhibit for two summers\, where her knowledge of butterflies grew.  \nShe will be graduating this May with an associates in Natural Sciences then going to Humboldt to get a bachelors in Forest Restoration.  \nWe have close-focusing binoculars for sharing the experience.
URL:https://www.ecoshasta.org/event/butterfly-walk/
LOCATION:Horsetown-Clear Creek Preserve\, Clear Creek Rd\, Anderson\, CA\, 96007\, United States
END:VEVENT
BEGIN:VEVENT
DTSTART;TZID=America/Los_Angeles:20260530T100000
DTEND;TZID=America/Los_Angeles:20260530T120000
DTSTAMP:20260422T235838
CREATED:20260303T221330Z
LAST-MODIFIED:20260303T221330Z
UID:3266-1780135200-1780142400@www.ecoshasta.org
SUMMARY:Wading into the Water: The Hidden World of Aquatic Insects
DESCRIPTION:Hosted by Horsetown-Clear Creek Preserve. \nDiscover the big role tiny insects play in our aquatic ecosystems and how they survive in a bug-eat-bug world. Join AmeriCorps member Kristina Krajcik from the Western Shasta RCD for a family-friendly day of turning over rocks\, wading in the stream\, or simply watching from the shore. We’ll spend the day sampling for aquatic invertebrates and explore the mysteries of the underwater world. We will bring extra nets and tools to allow guests\, big and small\, the opportunity to gather insects.
URL:https://www.ecoshasta.org/event/wading-into-the-water-the-hidden-world-of-aquatic-insects/
LOCATION:Horsetown-Clear Creek Preserve\, Clear Creek Rd\, Anderson\, CA\, 96007\, United States
END:VEVENT
BEGIN:VEVENT
DTSTART;TZID=America/Los_Angeles:20260531T090000
DTEND;TZID=America/Los_Angeles:20260531T140000
DTSTAMP:20260422T235838
CREATED:20260412T162838Z
LAST-MODIFIED:20260412T162838Z
UID:3409-1780218000-1780236000@www.ecoshasta.org
SUMMARY:Phillip Brothers Mill Tour
DESCRIPTION:  \nPhillip Brothers Mill Tour \nDate: May 31\, 2026 \nTime: 9:00am – 2:00pm \nWhere: Mt. Shasta Mall\, near Chase Bank parking lot for carpooling \nSign up: HERE \nCost: $15 per person/ Children are free \nWe hope you’ll join us for a very special field trip to tour the last fully steam-powered sawmill in the United States located right here in Shasta County! The Phillip Brothers Mill\, located in Oak Run\, has been operating since 1897 and is listed on the National Register of Historic Places. It sits on over 900 acres of timberland that has been placed in a conservation easement with the Pacific Forest Trust to ensure this property remains protected and sustainably managed in perpetuity. \nThe tour will be conducted by the mill’s manager\, Gregg Hendrix who has been part of this family owned and operated business since he was a child. Gregg will guide us through the operation from the mill pond through the first cuts of the logs to the finished products of custom-cut lumber and wooden boxes. It will take about 2 hours and we will have an opportunity to purchase some of their box factory products. Afterwards\, we can eat lunch before heading back. Please wear sturdy shoes and bring water and a lunch or snack. \nTo join this tour you MUST fill out this form as we are limiting this field trip to 30 people. We will meet at Mt. Shasta Mall near Chase Bank to carpool and caravan to the mill. You may prepay via PayPal or bring cash or check the morning of. The full amount of the fee goes to the Phillips Brothers Mill\, but we would greatly appreciate any amount above that price to support our mission to protect our local environment through stewardship\, education\, and advocacy. \nFor any questions\, email juliet@ecoshasta.org
URL:https://www.ecoshasta.org/event/phillip-brothers-mill-tour/
LOCATION:Mt. Shasta Mall near Chase Bank parking lot\, 974 Dana Dr\, Redding\, CA\, 96003
END:VEVENT
END:VCALENDAR