BEGIN:VCALENDAR
VERSION:2.0
PRODID:-//EcoShasta | S.E.A. - ECPv6.15.20//NONSGML v1.0//EN
CALSCALE:GREGORIAN
METHOD:PUBLISH
X-ORIGINAL-URL:https://www.ecoshasta.org
X-WR-CALDESC:Events for EcoShasta | S.E.A.
REFRESH-INTERVAL;VALUE=DURATION:PT1H
X-Robots-Tag:noindex
X-PUBLISHED-TTL:PT1H
BEGIN:VTIMEZONE
TZID:America/Los_Angeles
BEGIN:DAYLIGHT
TZOFFSETFROM:-0800
TZOFFSETTO:-0700
TZNAME:PDT
DTSTART:20220313T100000
END:DAYLIGHT
BEGIN:STANDARD
TZOFFSETFROM:-0700
TZOFFSETTO:-0800
TZNAME:PST
DTSTART:20221106T090000
END:STANDARD
BEGIN:DAYLIGHT
TZOFFSETFROM:-0800
TZOFFSETTO:-0700
TZNAME:PDT
DTSTART:20230312T100000
END:DAYLIGHT
BEGIN:STANDARD
TZOFFSETFROM:-0700
TZOFFSETTO:-0800
TZNAME:PST
DTSTART:20231105T090000
END:STANDARD
BEGIN:DAYLIGHT
TZOFFSETFROM:-0800
TZOFFSETTO:-0700
TZNAME:PDT
DTSTART:20240310T100000
END:DAYLIGHT
BEGIN:STANDARD
TZOFFSETFROM:-0700
TZOFFSETTO:-0800
TZNAME:PST
DTSTART:20241103T090000
END:STANDARD
END:VTIMEZONE
BEGIN:VEVENT
DTSTART;TZID=America/Los_Angeles:20230401T100000
DTEND;TZID=America/Los_Angeles:20230401T120000
DTSTAMP:20260424T161204
CREATED:20230306T213656Z
LAST-MODIFIED:20230306T213656Z
UID:1954-1680343200-1680350400@www.ecoshasta.org
SUMMARY:Permaculture Influence
DESCRIPTION:Learn self-sufficient and sustainable agricultural practices at our workshop on April 1\, from 10:00 a.m. – 12:00 p.m. at the Garden of Hope\, 3626 Railroad Ave\, Redding. There will be a $5.00 charge to cover materials and seeds. This workshop is sponsored by Shasta College\, UCCE\, and Providence International. \nThe workshop will be followed by plant starts swap for Garden Starts Co-Op for those who want to participate. \n• Basic Permaculture Principles Backyard Chickens \n• Goats/Small Ruminants \n• Rain Harvesting \n• Building your Soil \n• Permaculture & Outdoor Living Space \nFor more info please call Shasta Master Gardeners at (530) 242-2219
URL:https://www.ecoshasta.org/event/permaculture-influence/
LOCATION:Garden of Hope\, 3626 Railroad Ave\, Redding\, CA\, United States
END:VEVENT
BEGIN:VEVENT
DTSTART;TZID=America/Los_Angeles:20230401T090000
DTEND;TZID=America/Los_Angeles:20230401T130000
DTSTAMP:20260424T161204
CREATED:20230328T132143Z
LAST-MODIFIED:20230330T195738Z
UID:1975-1680339600-1680354000@www.ecoshasta.org
SUMMARY:CANCELED: Adopt-A-Highway Clean Up – Clear Creek
DESCRIPTION:*CANCELED DUE TO RAIN AND SAFETY CONCERNS*\n\n\n\nVolunteers will clean up a stretch of Clear Creek Road around the Horsetown-Clear Creek Preserve (HCCP). We will provide vests for visibility\, tools to pick up small items\, and garbage bags. PLEASE BRING GLOVES.\n\n\nLunch/snacks will be provided after the clean-up off-site at the Carl’s Jr. on Westside Road.\n\n\nMeet at the HCCP parking area on Clear Creek Road\, just west of the Clear Creek Bridge\, for this event.
URL:https://www.ecoshasta.org/event/adopt-a-highway-clean-up-clear-creek/
LOCATION:Horsetown-Clear Creek Preserve\, Clear Creek Rd\, Anderson\, CA\, 96007\, United States
END:VEVENT
BEGIN:VEVENT
DTSTART;TZID=America/Los_Angeles:20230325T080000
DTEND;TZID=America/Los_Angeles:20230325T140000
DTSTAMP:20260424T161204
CREATED:20230302T150119Z
LAST-MODIFIED:20230302T150119Z
UID:1916-1679731200-1679752800@www.ecoshasta.org
SUMMARY:Nomlaki Trail Field Trip
DESCRIPTION:Nomlaki Trail Field Trip \nMendocino National Forest\, Tehama County \nSaturday\, March 25\, 8 am \n  \nThe Nomlaki Trail in the foothills of Mendocino National Forest\, west of Paskenta. It is a three-mile\, easy-to-moderate roundtrip hike at 2000 ft. elevation. This trail has a wide diversity of serpentine plants and should have many new wildflowers as it recovers from a fire several years ago. This will be primarily a mixed chaparral field trip with a great understory of wildflowers. Time permitting\, we will drive further up the road to a conifer zone.  \n  \nBring plenty of water\, lunch\, and gas money for ride-sharing. Dogs on leashes at all times are welcome. Meet at the CVS parking lot on Placer Street in Redding at 8 am to carpool to the trailhead.  \nFor more information\, contact David Ledger at david@ecoshasta.org
URL:https://www.ecoshasta.org/event/nomlaki-trail-field-trip/
LOCATION:CVS – Placer\, 3375 Placer Street\, Redding\, CA\, 96001\, United States
ORGANIZER;CN="SEA - David Ledger":MAILTO:david@ecoshasta.org
END:VEVENT
BEGIN:VEVENT
DTSTART;TZID=America/Los_Angeles:20230318T090000
DTEND;TZID=America/Los_Angeles:20230318T130000
DTSTAMP:20260424T161204
CREATED:20230302T150248Z
LAST-MODIFIED:20230303T213603Z
UID:1918-1679130000-1679144400@www.ecoshasta.org
SUMMARY:Post Carr Fire Vegetation Management Field Trip with BLM: Rescheduled
DESCRIPTION:Post Carr Fire Vegetation Management Field Trip with BLM: Rescheduled \nWestside Trail (end of Kilkee Drive) \nSaturday\, March 18\, 2023\, 9 am \nThe Shasta Environmental Alliance and the Bureau of Land Management (BLM) field trip was canceled due to snow\, but it is rescheduled for March 18 at 9 am. This will be a walk-and-talk field trip on the West Side trail system to look at recent fuels reduction work. In the last few months\, many people who hike and bike these trails have seen drastic changes to parts of the trail system. This is an opportunity to walk through various project zones and talk about different treatments’ short- and long-term impacts. We will look at untreated areas\, more aggressively thinned areas\, and modified treatment areas. Each zone has pros and\ncons – and talking through it on the ground helps to explain the ins and outs of fuels management and ecosystem management. \nThis is an opportunity to learn from experts in the field. Hike leaders are Brooke Thompson\, a BLM ecologist concerned about protecting native plants and wildlife on BLM lands\, and Garrett Dunn\, an experienced BLM Fire Management Officer. They will discuss the pros and cons of various fire treatment areas that we will walk through\, from no fire treatment to heavy clearing. Your questions will be answered about fire recovery and the plants and animals of the Westside Trail complex during this walk-and-talk. \nMeet at the Westside Trailhead at the end of Kilkee Drive on Saturday\, March 18 at 9 am. This will be an easy two-to-three-mile walk. Bring good walking shoes and a water bottle. Light showers mean we will continue\, but heavy rains will cancel. For more information\, contact David Ledger at david@ecoshasta.org
URL:https://www.ecoshasta.org/event/post-carr-fire-vegetation-management-field-trip-with-blm-rescheduled/
LOCATION:Kilkee Drive – end of road (Westside Trail)\, Redding\, CA\, 96003\, United States
ORGANIZER;CN="SEA - David Ledger":MAILTO:david@ecoshasta.org
END:VEVENT
END:VCALENDAR